BEGIN:VCALENDAR
VERSION:2.0
CALSCALE:GREGORIAN
METHOD:PUBLISH
X-WR-TIMEZONE:Australia/Sydney
BEGIN:VTIMEZONE
TZID:Australia/Sydney
BEGIN:STANDARD
TZNAME:AEST
END:STANDARD
END:VTIMEZONE
BEGIN:VEVENT
DTSTART;TZID=Australia/Sydney:20190228T090000
DTEND;TZID=Australia/Sydney:20190228T150000
DTSTAMP:20190228T002452
UID:69
SUMMARY:Student Leaders Congress
DESCRIPTION:




Ten of our senior students will head across to Warrnambool to take part in the Corangamite area Student Leaders Congress at Deaking Uni.&amp;nbsp;


SEQUENCE:0
STATUS:CONFIRMED
TRANSP:OPAQUE
END:VEVENT
END:VCALENDAR