BEGIN:VCALENDAR
VERSION:2.0
CALSCALE:GREGORIAN
METHOD:PUBLISH
X-WR-TIMEZONE:Australia/Sydney
BEGIN:VTIMEZONE
TZID:Australia/Sydney
BEGIN:STANDARD
TZNAME:AEST
END:STANDARD
END:VTIMEZONE
BEGIN:VEVENT
DTSTART;TZID=Australia/Sydney:20190226T133000
DTEND;TZID=Australia/Sydney:20190226T150000
DTSTAMP:20190228T002554
UID:68
SUMMARY:Cultural Performance- Circus
DESCRIPTION:




The Circus is coming...Students will have the opportunity to attend our first cultural performance on Tuesday 26th Feb.This is part of the cultural offering as an extra curricula activity. It is covered by the cultural performance levy and so any families yet to pay this levy will be asked to pay for the performance.


SEQUENCE:0
STATUS:CONFIRMED
TRANSP:OPAQUE
END:VEVENT
END:VCALENDAR