BEGIN:VCALENDAR
VERSION:2.0
CALSCALE:GREGORIAN
METHOD:PUBLISH
X-WR-TIMEZONE:Australia/Sydney
BEGIN:VTIMEZONE
TZID:Australia/Sydney
BEGIN:STANDARD
TZNAME:AEST
END:STANDARD
END:VTIMEZONE
BEGIN:VEVENT
DTSTART;TZID=Australia/Sydney:20190221T180000
DTEND;TZID=Australia/Sydney:20190221T190000
DTSTAMP:20190228T002545
UID:67
SUMMARY:Head Lice Action Night
DESCRIPTION:




All families are asked to check children's hair on the same night so that we can all cut the cycle by united action.Notes home on Thursday 21st with eldest in family.


SEQUENCE:0
STATUS:CONFIRMED
TRANSP:OPAQUE
END:VEVENT
END:VCALENDAR