BEGIN:VCALENDAR
VERSION:2.0
CALSCALE:GREGORIAN
METHOD:PUBLISH
X-WR-TIMEZONE:Australia/Sydney
BEGIN:VTIMEZONE
TZID:Australia/Sydney
BEGIN:STANDARD
TZNAME:AEST
END:STANDARD
END:VTIMEZONE
BEGIN:VEVENT
DTSTART;TZID=Australia/Sydney:20190222T130000
DTEND;TZID=Australia/Sydney:20190222T163000
DTSTAMP:20190228T002549
UID:66
SUMMARY:'Getting to Know You' Parent Teacher Interviews
DESCRIPTION:




From 1pm til 4pm.Times were sent out with last weeks newsletter.


SEQUENCE:0
STATUS:CONFIRMED
TRANSP:OPAQUE
END:VEVENT
END:VCALENDAR