BEGIN:VCALENDAR
VERSION:2.0
CALSCALE:GREGORIAN
METHOD:PUBLISH
X-WR-TIMEZONE:Australia/Sydney
BEGIN:VTIMEZONE
TZID:Australia/Sydney
BEGIN:STANDARD
TZNAME:AEST
END:STANDARD
END:VTIMEZONE
BEGIN:VEVENT
DTSTART;TZID=Australia/Sydney:20190214T133000
DTEND;TZID=Australia/Sydney:20190214T143000
DTSTAMP:20190228T002541
UID:65
SUMMARY:Parent's Club AGM
DESCRIPTION:




The AGM meeting for Parents Club will be held. Please come along and support this very group who work so hard to support our school.


SEQUENCE:0
STATUS:CONFIRMED
TRANSP:OPAQUE
END:VEVENT
END:VCALENDAR