BEGIN:VCALENDAR
VERSION:2.0
CALSCALE:GREGORIAN
METHOD:PUBLISH
X-WR-TIMEZONE:Australia/Sydney
BEGIN:VTIMEZONE
TZID:Australia/Sydney
BEGIN:STANDARD
TZNAME:AEST
END:STANDARD
END:VTIMEZONE
BEGIN:VEVENT
DTSTART;TZID=Australia/Sydney:20190212T103000
DTEND;TZID=Australia/Sydney:20190212T000000
DTSTAMP:20190228T002533
UID:62
SUMMARY:Geelong Football Clinic
DESCRIPTION:




Geelong players will visit the school and hold clinics for the upper department


SEQUENCE:0
STATUS:CONFIRMED
TRANSP:OPAQUE
END:VEVENT
END:VCALENDAR