BEGIN:VCALENDAR
VERSION:2.0
CALSCALE:GREGORIAN
METHOD:PUBLISH
X-WR-TIMEZONE:Australia/Sydney
BEGIN:VTIMEZONE
TZID:Australia/Sydney
BEGIN:STANDARD
TZNAME:AEST
END:STANDARD
END:VTIMEZONE
BEGIN:VEVENT
DTSTART;TZID=Australia/Sydney:20190211T111500
DTEND;TZID=Australia/Sydney:20190211T114500
DTSTAMP:20190228T002528
UID:61
SUMMARY:3-6 Class information session
DESCRIPTION:




Classroom information for our upper department will be held in the library beginning at 11:15am


SEQUENCE:0
STATUS:CONFIRMED
TRANSP:OPAQUE
END:VEVENT
END:VCALENDAR