BEGIN:VCALENDAR
VERSION:2.0
CALSCALE:GREGORIAN
METHOD:PUBLISH
X-WR-TIMEZONE:Australia/Sydney
BEGIN:VTIMEZONE
TZID:Australia/Sydney
BEGIN:STANDARD
TZNAME:AEST
END:STANDARD
END:VTIMEZONE
BEGIN:VEVENT
DTSTART;TZID=Australia/Sydney:20190211T103000
DTEND;TZID=Australia/Sydney:20190211T110000
DTSTAMP:20190228T002523
UID:60
SUMMARY:P-2 Class information Session
DESCRIPTION:




Class information for our infant department will be held in the library beginning at 10:30am


SEQUENCE:0
STATUS:CONFIRMED
TRANSP:OPAQUE
END:VEVENT
END:VCALENDAR